
BEGIN:VCALENDAR
VERSION:2.0
PRODID:-//Sydney Mathematical Research Institute - ECPv6.15.20//NONSGML v1.0//EN
CALSCALE:GREGORIAN
METHOD:PUBLISH
X-WR-CALNAME:Sydney Mathematical Research Institute
X-ORIGINAL-URL:https://mathematical-research-institute.sydney.edu.au
X-WR-CALDESC:Events for Sydney Mathematical Research Institute
REFRESH-INTERVAL;VALUE=DURATION:PT1H
X-Robots-Tag:noindex
X-PUBLISHED-TTL:PT1H
BEGIN:VTIMEZONE
TZID:Australia/Sydney
BEGIN:STANDARD
TZOFFSETFROM:+1100
TZOFFSETTO:+1000
TZNAME:AEST
DTSTART:20200404T160000
END:STANDARD
BEGIN:DAYLIGHT
TZOFFSETFROM:+1000
TZOFFSETTO:+1100
TZNAME:AEDT
DTSTART:20201003T160000
END:DAYLIGHT
BEGIN:STANDARD
TZOFFSETFROM:+1100
TZOFFSETTO:+1000
TZNAME:AEST
DTSTART:20210403T160000
END:STANDARD
BEGIN:DAYLIGHT
TZOFFSETFROM:+1000
TZOFFSETTO:+1100
TZNAME:AEDT
DTSTART:20211002T160000
END:DAYLIGHT
BEGIN:STANDARD
TZOFFSETFROM:+1100
TZOFFSETTO:+1000
TZNAME:AEST
DTSTART:20220402T160000
END:STANDARD
BEGIN:DAYLIGHT
TZOFFSETFROM:+1000
TZOFFSETTO:+1100
TZNAME:AEDT
DTSTART:20221001T160000
END:DAYLIGHT
END:VTIMEZONE
BEGIN:VEVENT
DTSTART;TZID=Australia/Sydney:20210715T180000
DTEND;TZID=Australia/Sydney:20210715T180000
DTSTAMP:20260422T153625
CREATED:20240822T234236Z
LAST-MODIFIED:20240822T234236Z
UID:6229-1626372000-1626372000@mathematical-research-institute.sydney.edu.au
SUMMARY:POSTPONED: The mathematics of knots with Jessica Purcell
DESCRIPTION:This public lecture was postponed. For updates\, please subscribe to the SMRI Public Events mailing list.\n  \nSince prehistoric times\, humans have used knots for their functional and aesthetic value. Knots\, links and braids have held decorative\, artistic and spiritual significance across a myriad of cultures. For mathematicians\, the study of knots has led to insights in disciplines such as geometry and topology. \nWhen is a knot not a knot—how do you know if it can be unknotted? How do you know if two knots are the same? Professor Purcell’s ongoing research explores some of the modern tools to study knots and some of the surprising applications of knot theory\, such as quantum physics\, synthetic chemistry and molecular biology. \nSpeaker bio: Jessica Purcell is a Professor in the School of Mathematical Sciences and Associate Dean of Research (Faculty of Science) at Monash University. Her research interests are in geometry and topology\, with a particular interest in 3-manifolds\, hyberbolic geometry and knot theory. Professor Purcell will visit SMRI in late 2021 as part of the Domestic Visitor Program (2020 Round 2 Awardee).
URL:https://mathematical-research-institute.sydney.edu.au/event/postponed-the-mathematics-of-knots-with-jessica-purcell/
ATTACH;FMTTYPE=image/jpeg:https://mathematical-research-institute.sydney.edu.au/wp-content/uploads/2021/06/JPurcell.jpg
END:VEVENT
END:VCALENDAR