
BEGIN:VCALENDAR
VERSION:2.0
PRODID:-//Sydney Mathematical Research Institute - ECPv6.15.20//NONSGML v1.0//EN
CALSCALE:GREGORIAN
METHOD:PUBLISH
X-ORIGINAL-URL:https://mathematical-research-institute.sydney.edu.au
X-WR-CALDESC:Events for Sydney Mathematical Research Institute
REFRESH-INTERVAL;VALUE=DURATION:PT1H
X-Robots-Tag:noindex
X-PUBLISHED-TTL:PT1H
BEGIN:VTIMEZONE
TZID:Australia/Sydney
BEGIN:STANDARD
TZOFFSETFROM:+1100
TZOFFSETTO:+1000
TZNAME:AEST
DTSTART:20210403T160000
END:STANDARD
BEGIN:DAYLIGHT
TZOFFSETFROM:+1000
TZOFFSETTO:+1100
TZNAME:AEDT
DTSTART:20211002T160000
END:DAYLIGHT
BEGIN:STANDARD
TZOFFSETFROM:+1100
TZOFFSETTO:+1000
TZNAME:AEST
DTSTART:20220402T160000
END:STANDARD
BEGIN:DAYLIGHT
TZOFFSETFROM:+1000
TZOFFSETTO:+1100
TZNAME:AEDT
DTSTART:20221001T160000
END:DAYLIGHT
BEGIN:STANDARD
TZOFFSETFROM:+1100
TZOFFSETTO:+1000
TZNAME:AEST
DTSTART:20230401T160000
END:STANDARD
BEGIN:DAYLIGHT
TZOFFSETFROM:+1000
TZOFFSETTO:+1100
TZNAME:AEDT
DTSTART:20230930T160000
END:DAYLIGHT
END:VTIMEZONE
BEGIN:VEVENT
DTSTART;TZID=Australia/Sydney:20220315T180000
DTEND;TZID=Australia/Sydney:20220315T180000
DTSTAMP:20260420T153313
CREATED:20240822T234238Z
LAST-MODIFIED:20240822T234238Z
UID:6230-1647367200-1647367200@mathematical-research-institute.sydney.edu.au
SUMMARY:Maths\, AI and intuition with Geordie Williamson: Sydney Ideas event
DESCRIPTION:This public event took place on 15 March 2022. To receive updates about SMRI Public Events\, please subscribe to the mailing list.\nArtificial intelligence is one of the defining technologies of the 21st century. Over the last 15 years\, machine learning models have learnt to perform tasks that humans find easy\, such as speech and image recognition. However many problems are still out of the reach of AI\, including most unsolved problems in pure mathematics. \nIn this talk\, hosted by mathematician and MC\, Adam Spencer\, SMRI Director Professor Geordie Williamson explored how machine learning can help with the intuitive aspects of mathematical research. Geordie carried out one of the first applications of AI in pure mathematics\, in collaboration with Oxford University mathematicians and DeepMind\, the AI company of AlphaGo fame. The results were published in the prestigious scientific journal Nature in December 2021. \nGeordie and the DeepMind team used machine learning models to uncover surprising patterns in mathematical objects\, leading to progress on problems that have puzzled mathematicians for decades. \nView the post-event news post for a photo gallery and companion articles\, as well as the event recording: \n﻿﻿﻿﻿﻿﻿﻿﻿\nAbout the speaker: Professor Geordie Williamson FAA FRS is Director of the Sydney Mathematical Research Institute and a world-leading expert in representation theory\, the mathematical theory of symmetry. Among other awards\, he is a recipient of the Clay Research Award\, the Chevalley Prize of the American Mathematics Society and 2017 New Horizons in Mathematics Prize. \nAbout the MC: Adam Spencer\, Mathematics and Science Ambassador for the University of Sydney\, is a best-selling author and science communicator.
URL:https://mathematical-research-institute.sydney.edu.au/event/maths-ai-and-intuition-with-geordie-williamson-sydney-ideas-event/
ATTACH;FMTTYPE=image/jpeg:https://mathematical-research-institute.sydney.edu.au/wp-content/uploads/2022/02/GW-talk.jpg
END:VEVENT
END:VCALENDAR